BEGIN:VCALENDAR
VERSION:2.0
PRODID:-//Con Spirito - ECPv5.7.0//NONSGML v1.0//EN
CALSCALE:GREGORIAN
METHOD:PUBLISH
X-WR-CALNAME:Con Spirito
X-ORIGINAL-URL:http://conspirito-dinxperlo.nl
X-WR-CALDESC:Evenementen voor Con Spirito
BEGIN:VTIMEZONE
TZID:Europe/Amsterdam
BEGIN:DAYLIGHT
TZOFFSETFROM:+0100
TZOFFSETTO:+0200
TZNAME:CEST
DTSTART:20260329T010000
END:DAYLIGHT
BEGIN:STANDARD
TZOFFSETFROM:+0200
TZOFFSETTO:+0100
TZNAME:CET
DTSTART:20261025T010000
END:STANDARD
END:VTIMEZONE
BEGIN:VEVENT
DTSTART;TZID=Europe/Amsterdam:20260425T150000
DTEND;TZID=Europe/Amsterdam:20260425T170000
DTSTAMP:20260423T053551
CREATED:20260321T082930Z
LAST-MODIFIED:20260321T082930Z
UID:2236-1777129200-1777136400@conspirito-dinxperlo.nl
SUMMARY:Besloten concert voor donateurs en adverteerders
DESCRIPTION:
URL:http://conspirito-dinxperlo.nl/event/besloten-concert-voor-donateurs-en-adverteerders/
LOCATION:Gut Heidefeld Spork
END:VEVENT
BEGIN:VEVENT
DTSTART;TZID=Europe/Amsterdam:20260517T103000
DTEND;TZID=Europe/Amsterdam:20260517T120000
DTSTAMP:20260423T053551
CREATED:20260321T083139Z
LAST-MODIFIED:20260321T083139Z
UID:2238-1779013800-1779019200@conspirito-dinxperlo.nl
SUMMARY:Medewerking aan liturgie
DESCRIPTION:
URL:http://conspirito-dinxperlo.nl/event/medewerking-aan-liturgie/
LOCATION:St. Michael Kirche Suderwick
END:VEVENT
BEGIN:VEVENT
DTSTART;TZID=Europe/Amsterdam:20261010T150000
DTEND;TZID=Europe/Amsterdam:20261010T170000
DTSTAMP:20260423T053551
CREATED:20260321T083525Z
LAST-MODIFIED:20260321T083525Z
UID:2240-1791644400-1791651600@conspirito-dinxperlo.nl
SUMMARY:Najaarsconcert
DESCRIPTION:
URL:http://conspirito-dinxperlo.nl/event/najaarsconcert/
END:VEVENT
BEGIN:VEVENT
DTSTART;TZID=Europe/Amsterdam:20261101T100000
DTEND;TZID=Europe/Amsterdam:20261101T110000
DTSTAMP:20260423T053551
CREATED:20260321T083730Z
LAST-MODIFIED:20260321T083730Z
UID:2243-1793527200-1793530800@conspirito-dinxperlo.nl
SUMMARY:Medewerking aan de kerkdienst
DESCRIPTION:
URL:http://conspirito-dinxperlo.nl/event/medewerking-aan-de-kerkdienst-2/
LOCATION:Dorpskerk Dinxperlo\, Markt 4\, Dinxperlo\, Gelderland\, 7091 CJ\, Nederland
END:VEVENT
BEGIN:VEVENT
DTSTART;TZID=Europe/Amsterdam:20261217T100000
DTEND;TZID=Europe/Amsterdam:20261217T110000
DTSTAMP:20260423T053551
CREATED:20260321T083920Z
LAST-MODIFIED:20260321T083920Z
UID:2245-1797501600-1797505200@conspirito-dinxperlo.nl
SUMMARY:Mini Kerstconcert
DESCRIPTION:
URL:http://conspirito-dinxperlo.nl/event/mini-kerstconcert-2/
LOCATION:Dr. Jenny Woonzorgcentrum\, Veensgracht 1\, Dinxperlo\, Gelderland\, 7091 BR
END:VEVENT
BEGIN:VEVENT
DTSTART;TZID=Europe/Amsterdam:20261220T170000
DTEND;TZID=Europe/Amsterdam:20261220T190000
DTSTAMP:20260423T053551
CREATED:20260321T084059Z
LAST-MODIFIED:20260321T084059Z
UID:2247-1797786000-1797793200@conspirito-dinxperlo.nl
SUMMARY:Kerstconcert
DESCRIPTION:
URL:http://conspirito-dinxperlo.nl/event/kerstconcert-4/
LOCATION:Dorpskerk Dinxperlo\, Markt 4\, Dinxperlo\, Gelderland\, 7091 CJ\, Nederland
END:VEVENT
END:VCALENDAR